BEGIN:VCALENDAR
VERSION:2.0
PRODID:-// - ECPv6.15.20//NONSGML v1.0//EN
CALSCALE:GREGORIAN
METHOD:PUBLISH
X-ORIGINAL-URL:https://www.wildcatpizzapub.com
X-WR-CALDESC:Events for 
REFRESH-INTERVAL;VALUE=DURATION:PT1H
X-Robots-Tag:noindex
X-PUBLISHED-TTL:PT1H
BEGIN:VTIMEZONE
TZID:UTC
BEGIN:STANDARD
TZOFFSETFROM:+0000
TZOFFSETTO:+0000
TZNAME:UTC
DTSTART:20170101T000000
END:STANDARD
END:VTIMEZONE
BEGIN:VEVENT
DTSTART;TZID=UTC:20190809T200000
DTEND;TZID=UTC:20190809T230000
DTSTAMP:20260424T033628
CREATED:20190507T224255Z
LAST-MODIFIED:20190507T224255Z
UID:1245-1565380800-1565391600@www.wildcatpizzapub.com
SUMMARY:Joe Nesci Trio
DESCRIPTION:Come hear Joe Nesci Trio Live at Wildcat while enjoying great music and tasty food!
URL:https://www.wildcatpizzapub.com/event/joe-nesci-trio-2/
LOCATION:Wildcat Pizza Pub\, 3680 Milton Ave\, Camillus\, NY\, 13031\, United States
CATEGORIES:Live Music
END:VEVENT
BEGIN:VEVENT
DTSTART;TZID=UTC:20190802T200000
DTEND;TZID=UTC:20190802T220000
DTSTAMP:20260424T033628
CREATED:20190607T231245Z
LAST-MODIFIED:20190607T231308Z
UID:1291-1564776000-1564783200@www.wildcatpizzapub.com
SUMMARY:John Waite
DESCRIPTION:GET YOUR TICKETS NOW!  \nGET YOUR TICKETS HERE!\nFriday\, August 2\, 2019 at 8 PM – 11 PM
URL:https://www.wildcatpizzapub.com/event/john-waite/
LOCATION:Wildcat Pizza Pub\, 3680 Milton Ave\, Camillus\, NY\, 13031\, United States
CATEGORIES:Live Music
END:VEVENT
BEGIN:VEVENT
DTSTART;TZID=UTC:20190802T160000
DTEND;TZID=UTC:20190802T190000
DTSTAMP:20260424T033628
CREATED:20190507T224543Z
LAST-MODIFIED:20190607T231129Z
UID:1255-1564761600-1564772400@www.wildcatpizzapub.com
SUMMARY:Just Joe
DESCRIPTION:Come hear Just Joe Live at Wildcat while enjoying great music and tasty food!
URL:https://www.wildcatpizzapub.com/event/just-joe/
LOCATION:Wildcat Pizza Pub\, 3680 Milton Ave\, Camillus\, NY\, 13031\, United States
CATEGORIES:Live Music
END:VEVENT
BEGIN:VEVENT
DTSTART;TZID=UTC:20190726T200000
DTEND;TZID=UTC:20190726T230000
DTSTAMP:20260424T033628
CREATED:20190507T225019Z
LAST-MODIFIED:20190507T225019Z
UID:1264-1564171200-1564182000@www.wildcatpizzapub.com
SUMMARY:Stretch Armstrong
DESCRIPTION:Come hear Stetch Armstrong Live at Wildcat while enjoying great music and tasty food!
URL:https://www.wildcatpizzapub.com/event/stretch-armstrong/
LOCATION:Wildcat Pizza Pub\, 3680 Milton Ave\, Camillus\, NY\, 13031\, United States
CATEGORIES:Live Music
END:VEVENT
BEGIN:VEVENT
DTSTART;TZID=UTC:20190719T200000
DTEND;TZID=UTC:20190719T230000
DTSTAMP:20260424T033628
CREATED:20190507T224634Z
LAST-MODIFIED:20190507T224634Z
UID:1256-1563566400-1563577200@www.wildcatpizzapub.com
SUMMARY:Gina Rose and the Thorns
DESCRIPTION:Come hear Gina Rose and The Thorns Live at Wildcat while enjoying great music and tasty food!
URL:https://www.wildcatpizzapub.com/event/gina-rose-and-the-thorns/
LOCATION:Wildcat Pizza Pub\, 3680 Milton Ave\, Camillus\, NY\, 13031\, United States
CATEGORIES:Live Music
END:VEVENT
BEGIN:VEVENT
DTSTART;TZID=UTC:20190712T200000
DTEND;TZID=UTC:20190712T230000
DTSTAMP:20260424T033628
CREATED:20190507T224722Z
LAST-MODIFIED:20190516T161127Z
UID:1257-1562961600-1562972400@www.wildcatpizzapub.com
SUMMARY:F5
DESCRIPTION:Come hear F5 Live at Wildcat while enjoying great music and tasty food!
URL:https://www.wildcatpizzapub.com/event/f5/
LOCATION:Wildcat Pizza Pub\, 3680 Milton Ave\, Camillus\, NY\, 13031\, United States
CATEGORIES:Live Music
END:VEVENT
BEGIN:VEVENT
DTSTART;TZID=UTC:20190705T200000
DTEND;TZID=UTC:20190705T230000
DTSTAMP:20260424T033628
CREATED:20190507T224920Z
LAST-MODIFIED:20190507T224920Z
UID:1258-1562356800-1562367600@www.wildcatpizzapub.com
SUMMARY:Dr. Kildare
DESCRIPTION:Come hear Dr. Kildare Live at Wildcat while enjoying great music and tasty food!
URL:https://www.wildcatpizzapub.com/event/dr-kildare/
LOCATION:Wildcat Pizza Pub\, 3680 Milton Ave\, Camillus\, NY\, 13031\, United States
CATEGORIES:Live Music
END:VEVENT
BEGIN:VEVENT
DTSTART;TZID=UTC:20190621T200000
DTEND;TZID=UTC:20190621T230000
DTSTAMP:20260424T033628
CREATED:20190607T230612Z
LAST-MODIFIED:20190607T230800Z
UID:1286-1561147200-1561158000@www.wildcatpizzapub.com
SUMMARY:Insoluble
DESCRIPTION:Come hear Insoluble Live at The Wildcat and enjoy great music and great food!
URL:https://www.wildcatpizzapub.com/event/insoluble/
LOCATION:Wildcat Pizza Pub\, 3680 Milton Ave\, Camillus\, NY\, 13031\, United States
CATEGORIES:Live Music
END:VEVENT
BEGIN:VEVENT
DTSTART;TZID=UTC:20190614T200000
DTEND;TZID=UTC:20190614T230000
DTSTAMP:20260424T033628
CREATED:20190507T223754Z
LAST-MODIFIED:20190507T223754Z
UID:1246-1560542400-1560553200@www.wildcatpizzapub.com
SUMMARY:Savannah Harmon Live at Wildcat
DESCRIPTION:Come hear Savannah Harmon Live at The Wildcat while enjoying great food and great music!
URL:https://www.wildcatpizzapub.com/event/savannah-harmon-live-at-wildcat/
LOCATION:Wildcat Pizza Pub\, 3680 Milton Ave\, Camillus\, NY\, 13031\, United States
CATEGORIES:Live Music
END:VEVENT
BEGIN:VEVENT
DTSTART;TZID=UTC:20190607T200000
DTEND;TZID=UTC:20190607T230000
DTSTAMP:20260424T033628
CREATED:20190607T230649Z
LAST-MODIFIED:20190607T230826Z
UID:1287-1559937600-1559948400@www.wildcatpizzapub.com
SUMMARY:Red Spider
DESCRIPTION:Come hear Red Spider Live at The Wildcat while enjoying great music and great food!
URL:https://www.wildcatpizzapub.com/event/red-spider-2/
LOCATION:Wildcat Pizza Pub\, 3680 Milton Ave\, Camillus\, NY\, 13031\, United States
CATEGORIES:Live Music
END:VEVENT
BEGIN:VEVENT
DTSTART;TZID=UTC:20190607T200000
DTEND;TZID=UTC:20190607T230000
DTSTAMP:20260424T033628
CREATED:20190516T160938Z
LAST-MODIFIED:20190516T160938Z
UID:1270-1559937600-1559948400@www.wildcatpizzapub.com
SUMMARY:Origins
DESCRIPTION:Come hear Origins at The Wildcat while enjoying great food and great music!
URL:https://www.wildcatpizzapub.com/event/origins/
LOCATION:Wildcat Pizza Pub\, 3680 Milton Ave\, Camillus\, NY\, 13031\, United States
CATEGORIES:Live Music
END:VEVENT
BEGIN:VEVENT
DTSTART;TZID=UTC:20190531T200000
DTEND;TZID=UTC:20190531T230000
DTSTAMP:20260424T033628
CREATED:20190507T224344Z
LAST-MODIFIED:20190507T224344Z
UID:1247-1559332800-1559343600@www.wildcatpizzapub.com
SUMMARY:Joe Nesci
DESCRIPTION:Come hear Joe Nesci Live at Wildcat while enjoying great music and tasty food!
URL:https://www.wildcatpizzapub.com/event/joe-nesci/
LOCATION:Wildcat Pizza Pub\, 3680 Milton Ave\, Camillus\, NY\, 13031\, United States
CATEGORIES:Live Music
END:VEVENT
BEGIN:VEVENT
DTSTART;TZID=UTC:20190524T200000
DTEND;TZID=UTC:20190524T230000
DTSTAMP:20260424T033628
CREATED:20190516T160445Z
LAST-MODIFIED:20190516T160803Z
UID:1267-1558728000-1558738800@www.wildcatpizzapub.com
SUMMARY:Tuff Luck
DESCRIPTION:Come hear Tuff Luck! Enjoy some great food and great music!
URL:https://www.wildcatpizzapub.com/event/tuff-luck-2/
LOCATION:Wildcat Pizza Pub\, 3680 Milton Ave\, Camillus\, NY\, 13031\, United States
CATEGORIES:Live Music
END:VEVENT
BEGIN:VEVENT
DTSTART;TZID=UTC:20190517T200000
DTEND;TZID=UTC:20190517T230000
DTSTAMP:20260424T033628
CREATED:20190507T224140Z
LAST-MODIFIED:20190507T224140Z
UID:1244-1558123200-1558134000@www.wildcatpizzapub.com
SUMMARY:Joe Nesci Trio
DESCRIPTION:Come hear Joe Nesci Trio Live at Wildcat while enjoying great music and tasty food!
URL:https://www.wildcatpizzapub.com/event/joe-nesci-trio/
LOCATION:Wildcat Pizza Pub\, 3680 Milton Ave\, Camillus\, NY\, 13031\, United States
CATEGORIES:Live Music
END:VEVENT
BEGIN:VEVENT
DTSTART;TZID=UTC:20190510T200000
DTEND;TZID=UTC:20190510T230000
DTSTAMP:20260424T033628
CREATED:20190507T062730Z
LAST-MODIFIED:20190507T222800Z
UID:1137-1557518400-1557529200@www.wildcatpizzapub.com
SUMMARY:Joey Belladonna Live at Wildcat
DESCRIPTION:Come hear Joey Belladonna Live and enjoy some great music and great food!
URL:https://www.wildcatpizzapub.com/event/joey-belladonna-live-at-wildcat/
LOCATION:Wildcat Pizza Pub\, 3680 Milton Ave\, Camillus\, NY\, 13031\, United States
CATEGORIES:Live Music
END:VEVENT
BEGIN:VEVENT
DTSTART;TZID=UTC:20181214T200000
DTEND;TZID=UTC:20181214T230000
DTSTAMP:20260424T033628
CREATED:20180810T161928Z
LAST-MODIFIED:20181201T230129Z
UID:1151-1544817600-1544828400@www.wildcatpizzapub.com
SUMMARY:The Owens Brothers and B104.7 Christmas Party
DESCRIPTION:Come hear The Owens Brothers from 8 to 11 and stay for the B104.7 Christmas Party!!\nhttps://b1047.iheart.com/calendar/event/5bfdbcf2fd5d7c6c6e861992/?fbclid=IwAR2YEjr1J-j1RUkbGdlWzXfX0dDT7sbUidM412ZvrONdAm4QkBjqhclEEG4#
URL:https://www.wildcatpizzapub.com/event/tom-owens-live-at-wildcat/
LOCATION:Wildcat Pizza Pub\, 3680 Milton Ave\, Camillus\, NY\, 13031\, United States
CATEGORIES:Live Music
END:VEVENT
BEGIN:VEVENT
DTSTART;TZID=UTC:20181208T200000
DTEND;TZID=UTC:20181208T230000
DTSTAMP:20260424T033628
CREATED:20180810T161650Z
LAST-MODIFIED:20180810T161650Z
UID:1160-1544299200-1544310000@www.wildcatpizzapub.com
SUMMARY:Frank and Ali Live at Wildcat
DESCRIPTION:Come hear Frank and Ali and enjoy some great food and great music!
URL:https://www.wildcatpizzapub.com/event/frank-and-ali-live-at-wildcat/
LOCATION:Wildcat Pizza Pub\, 3680 Milton Ave\, Camillus\, NY\, 13031\, United States
CATEGORIES:Live Music
END:VEVENT
BEGIN:VEVENT
DTSTART;TZID=UTC:20181130T200000
DTEND;TZID=UTC:20181130T230000
DTSTAMP:20260424T033628
CREATED:20180810T161336Z
LAST-MODIFIED:20180810T161336Z
UID:1149-1543608000-1543618800@www.wildcatpizzapub.com
SUMMARY:Letizia and The Z Band Live at Wildcat
DESCRIPTION:Come hear Letizia and The Z Band Live and enjoy some great music and great food!
URL:https://www.wildcatpizzapub.com/event/letizia-and-the-z-band-live-at-wildcat-2/
LOCATION:Wildcat Pizza Pub\, 3680 Milton Ave\, Camillus\, NY\, 13031\, United States
CATEGORIES:Live Music
END:VEVENT
BEGIN:VEVENT
DTSTART;TZID=UTC:20181123T200000
DTEND;TZID=UTC:20181123T230000
DTSTAMP:20260424T033628
CREATED:20180810T161135Z
LAST-MODIFIED:20180810T161135Z
UID:1148-1543003200-1543014000@www.wildcatpizzapub.com
SUMMARY:Next Generation Live at Wildcat
DESCRIPTION:Come hear Next Generation Live at Wildcat and enjoy great music and great food!
URL:https://www.wildcatpizzapub.com/event/next-generation-live-at-wildcat-2/
LOCATION:Wildcat Pizza Pub\, 3680 Milton Ave\, Camillus\, NY\, 13031\, United States
CATEGORIES:Live Music
END:VEVENT
BEGIN:VEVENT
DTSTART;TZID=UTC:20181121T210000
DTEND;TZID=UTC:20181121T210000
DTSTAMP:20260424T033628
CREATED:20180810T160845Z
LAST-MODIFIED:20180810T160845Z
UID:1147-1542834000-1542834000@www.wildcatpizzapub.com
SUMMARY:The Action Live at Wildcat
DESCRIPTION:Come hear The Action Live at Wildcat and enjoy great music and great food!
URL:https://www.wildcatpizzapub.com/event/the-action-live-at-wildcat/
LOCATION:Wildcat Pizza Pub\, 3680 Milton Ave\, Camillus\, NY\, 13031\, United States
CATEGORIES:Live Music
END:VEVENT
BEGIN:VEVENT
DTSTART;TZID=UTC:20181110T200000
DTEND;TZID=UTC:20181110T230000
DTSTAMP:20260424T033628
CREATED:20180810T160438Z
LAST-MODIFIED:20180810T160449Z
UID:1145-1541880000-1541890800@www.wildcatpizzapub.com
SUMMARY:Dark Hallow Live at Wildcat
DESCRIPTION:Come hear Dark Hallow at Wildcat while\, enjoying great music and great food!
URL:https://www.wildcatpizzapub.com/event/dark-hallow-live-at-wildcat/
LOCATION:Wildcat Pizza Pub\, 3680 Milton Ave\, Camillus\, NY\, 13031\, United States
CATEGORIES:Live Music
END:VEVENT
BEGIN:VEVENT
DTSTART;TZID=UTC:20181109T200000
DTEND;TZID=UTC:20181109T230000
DTSTAMP:20260424T033628
CREATED:20180810T160225Z
LAST-MODIFIED:20180810T160225Z
UID:1143-1541793600-1541804400@www.wildcatpizzapub.com
SUMMARY:Jake Dodds Live at Wildcat
DESCRIPTION:Come hear Jake Dodds at Wildcat while enjoying great music and great food!
URL:https://www.wildcatpizzapub.com/event/jake-dodds-live-at-wildcat/
LOCATION:Wildcat Pizza Pub\, 3680 Milton Ave\, Camillus\, NY\, 13031\, United States
CATEGORIES:Live Music
END:VEVENT
BEGIN:VEVENT
DTSTART;TZID=UTC:20181102T200000
DTEND;TZID=UTC:20181102T230000
DTSTAMP:20260424T033628
CREATED:20180810T160007Z
LAST-MODIFIED:20180810T160007Z
UID:1141-1541188800-1541199600@www.wildcatpizzapub.com
SUMMARY:The Horndogs Live at Wildcat
DESCRIPTION:Come hear The Horndogs and enjoy great music and great food!
URL:https://www.wildcatpizzapub.com/event/the-horndogs-live-at-wildcat-2/
LOCATION:Wildcat Pizza Pub\, 3680 Milton Ave\, Camillus\, NY\, 13031\, United States
CATEGORIES:Live Music
END:VEVENT
BEGIN:VEVENT
DTSTART;TZID=UTC:20181013T200000
DTEND;TZID=UTC:20181013T230000
DTSTAMP:20260424T033628
CREATED:20180810T155440Z
LAST-MODIFIED:20180810T155440Z
UID:1135-1539460800-1539471600@www.wildcatpizzapub.com
SUMMARY:Next Generation Live at Wildcat
DESCRIPTION:Come hear Next Generation Live at Wildcat and enjoy some great music and tasty food!
URL:https://www.wildcatpizzapub.com/event/next-generation-live-at-wildcat/
LOCATION:Wildcat Pizza Pub\, 3680 Milton Ave\, Camillus\, NY\, 13031\, United States
CATEGORIES:Live Music
END:VEVENT
BEGIN:VEVENT
DTSTART;TZID=UTC:20181012T200000
DTEND;TZID=UTC:20181012T230000
DTSTAMP:20260424T033628
CREATED:20180810T155323Z
LAST-MODIFIED:20180810T155323Z
UID:1133-1539374400-1539385200@www.wildcatpizzapub.com
SUMMARY:The Skylocks Live at Wildcat
DESCRIPTION:Come hear The Skylocks Live at Wildcat and enjoy great music and great food!
URL:https://www.wildcatpizzapub.com/event/the-skylocks-live-at-wildcat/
LOCATION:Wildcat Pizza Pub\, 3680 Milton Ave\, Camillus\, NY\, 13031\, United States
CATEGORIES:Live Music
END:VEVENT
BEGIN:VEVENT
DTSTART;TZID=UTC:20181005T200000
DTEND;TZID=UTC:20181005T230000
DTSTAMP:20260424T033628
CREATED:20180810T155137Z
LAST-MODIFIED:20180810T155137Z
UID:1131-1538769600-1538780400@www.wildcatpizzapub.com
SUMMARY:Letizia and The Z Band Live at Wildcat
DESCRIPTION:Come hear Letizia and The Z Band while enjoying great music and great food!
URL:https://www.wildcatpizzapub.com/event/letizia-and-the-z-band-live-at-wildcat/
LOCATION:Wildcat Pizza Pub\, 3680 Milton Ave\, Camillus\, NY\, 13031\, United States
CATEGORIES:Live Music
END:VEVENT
BEGIN:VEVENT
DTSTART;TZID=UTC:20180928T200000
DTEND;TZID=UTC:20180928T230000
DTSTAMP:20260424T033628
CREATED:20180918T013554Z
LAST-MODIFIED:20180918T013554Z
UID:1181-1538164800-1538175600@www.wildcatpizzapub.com
SUMMARY:Two Feet Short at The Wildcat
DESCRIPTION:Come checkout Two Feet Short at the Wildcat! They play all your favorite oldies like The Beatles\, Neil Diamond\, and more!
URL:https://www.wildcatpizzapub.com/event/two-feet-short-at-the-wildcat/
LOCATION:Wildcat Pizza Pub\, 3680 Milton Ave\, Camillus\, NY\, 13031\, United States
CATEGORIES:Live Music
END:VEVENT
BEGIN:VEVENT
DTSTART;TZID=UTC:20180921T200000
DTEND;TZID=UTC:20180921T230000
DTSTAMP:20260424T033628
CREATED:20180810T154922Z
LAST-MODIFIED:20180810T154922Z
UID:1129-1537560000-1537570800@www.wildcatpizzapub.com
SUMMARY:Gary and The Del-Tunes Live at Wildcat
DESCRIPTION:Come hear Gary and The Del-Tunes Live at Wildcat and enjoy some great food!
URL:https://www.wildcatpizzapub.com/event/gary-and-the-del-tunes-live-at-wildcat/
LOCATION:Wildcat Pizza Pub\, 3680 Milton Ave\, Camillus\, NY\, 13031\, United States
CATEGORIES:Live Music
END:VEVENT
BEGIN:VEVENT
DTSTART;TZID=UTC:20180907T200000
DTEND;TZID=UTC:20180907T230000
DTSTAMP:20260424T033628
CREATED:20180810T154632Z
LAST-MODIFIED:20180810T154632Z
UID:1125-1536350400-1536361200@www.wildcatpizzapub.com
SUMMARY:The Horndogs Live at Wildcat
DESCRIPTION:Come hear The Horndogs Live at Wildcat and enjoy some great food!
URL:https://www.wildcatpizzapub.com/event/the-horndogs-live-at-wildcat/
LOCATION:Wildcat Pizza Pub\, 3680 Milton Ave\, Camillus\, NY\, 13031\, United States
CATEGORIES:Live Music
END:VEVENT
BEGIN:VEVENT
DTSTART;TZID=UTC:20180824T190000
DTEND;TZID=UTC:20180824T220000
DTSTAMP:20260424T033628
CREATED:20180810T154319Z
LAST-MODIFIED:20180810T154319Z
UID:1123-1535137200-1535148000@www.wildcatpizzapub.com
SUMMARY:Cait & Austin Live at Wildcat
DESCRIPTION:Come hear Cait and Austin live at Wildcat\, while enjoying great food!
URL:https://www.wildcatpizzapub.com/event/cait-austin-live-at-wildcat/
LOCATION:Wildcat Pizza Pub\, 3680 Milton Ave\, Camillus\, NY\, 13031\, United States
CATEGORIES:Live Music
END:VEVENT
END:VCALENDAR