BEGIN:VCALENDAR
VERSION:2.0
PRODID:-// - ECPv6.15.20//NONSGML v1.0//EN
CALSCALE:GREGORIAN
METHOD:PUBLISH
X-ORIGINAL-URL:https://www.wildcatpizzapub.com
X-WR-CALDESC:Events for 
REFRESH-INTERVAL;VALUE=DURATION:PT1H
X-Robots-Tag:noindex
X-PUBLISHED-TTL:PT1H
BEGIN:VTIMEZONE
TZID:UTC
BEGIN:STANDARD
TZOFFSETFROM:+0000
TZOFFSETTO:+0000
TZNAME:UTC
DTSTART:20160101T000000
END:STANDARD
END:VTIMEZONE
BEGIN:VEVENT
DTSTART;TZID=UTC:20171014T200000
DTEND;TZID=UTC:20171014T230000
DTSTAMP:20260424T122150
CREATED:20170906T211359Z
LAST-MODIFIED:20170906T212806Z
UID:1003-1508011200-1508022000@www.wildcatpizzapub.com
SUMMARY:Peyton Bird
DESCRIPTION:Come hear Peyton Bird Live at the Wildcat from 8 to 11!
URL:https://www.wildcatpizzapub.com/event/peyton-bird/
LOCATION:Wildcat Pizza Pub\, 3680 Milton Ave\, Camillus\, NY\, 13031\, United States
CATEGORIES:Live Music
END:VEVENT
BEGIN:VEVENT
DTSTART;TZID=UTC:20171006T200000
DTEND;TZID=UTC:20171006T230000
DTSTAMP:20260424T122150
CREATED:20170906T211216Z
LAST-MODIFIED:20170906T211216Z
UID:1001-1507320000-1507330800@www.wildcatpizzapub.com
SUMMARY:Zero Point Zero
DESCRIPTION:Come hear Zero Point Zero from 8 to 11pm!
URL:https://www.wildcatpizzapub.com/event/zero-point-zero/
LOCATION:Wildcat Pizza Pub\, 3680 Milton Ave\, Camillus\, NY\, 13031\, United States
CATEGORIES:Live Music
END:VEVENT
BEGIN:VEVENT
DTSTART;TZID=UTC:20170929T200000
DTEND;TZID=UTC:20170929T230000
DTSTAMP:20260424T122150
CREATED:20170906T210926Z
LAST-MODIFIED:20170906T210926Z
UID:998-1506715200-1506726000@www.wildcatpizzapub.com
SUMMARY:Tennison Ave
DESCRIPTION:Come hear Tennison Ave from 8 to 11!
URL:https://www.wildcatpizzapub.com/event/tennison-ave/
LOCATION:Wildcat Pizza Pub\, 3680 Milton Ave\, Camillus\, NY\, 13031\, United States
CATEGORIES:Live Music
END:VEVENT
BEGIN:VEVENT
DTSTART;TZID=UTC:20170921T180000
DTEND;TZID=UTC:20170921T200000
DTSTAMP:20260424T122150
CREATED:20170906T210745Z
LAST-MODIFIED:20170906T213653Z
UID:995-1506016800-1506024000@www.wildcatpizzapub.com
SUMMARY:Steven Cali LIVE
DESCRIPTION:Come hear Steven Cali Live at the wildcat from 6 to 8!
URL:https://www.wildcatpizzapub.com/event/steven-cali-live/
LOCATION:Wildcat Pizza Pub\, 3680 Milton Ave\, Camillus\, NY\, 13031\, United States
CATEGORIES:Live Music
END:VEVENT
BEGIN:VEVENT
DTSTART;TZID=UTC:20170915T200000
DTEND;TZID=UTC:20170915T230000
DTSTAMP:20260424T122150
CREATED:20170906T210634Z
LAST-MODIFIED:20170906T210634Z
UID:990-1505505600-1505516400@www.wildcatpizzapub.com
SUMMARY:Red Spider
DESCRIPTION:Come checkout Red Spider at the Wildcat from 8 to 11!
URL:https://www.wildcatpizzapub.com/event/red-spider/
LOCATION:Wildcat Pizza Pub\, 3680 Milton Ave\, Camillus\, NY\, 13031\, United States
CATEGORIES:Live Music
END:VEVENT
BEGIN:VEVENT
DTSTART;TZID=UTC:20170909T200000
DTEND;TZID=UTC:20170909T230000
DTSTAMP:20260424T122150
CREATED:20170906T205950Z
LAST-MODIFIED:20170906T210354Z
UID:986-1504987200-1504998000@www.wildcatpizzapub.com
SUMMARY:DJ Gary Dunes
DESCRIPTION:
URL:https://www.wildcatpizzapub.com/event/dj-gary-dunes-2/
LOCATION:Wildcat Pizza Pub\, 3680 Milton Ave\, Camillus\, NY\, 13031\, United States
CATEGORIES:Events,Live Music
END:VEVENT
BEGIN:VEVENT
DTSTART;TZID=UTC:20170819T190000
DTEND;TZID=UTC:20170819T220000
DTSTAMP:20260424T122150
CREATED:20170622T003733Z
LAST-MODIFIED:20170622T003733Z
UID:979-1503169200-1503180000@www.wildcatpizzapub.com
SUMMARY:Caitlin Barry LIVE
DESCRIPTION:Come enjoy great music and awesome food!
URL:https://www.wildcatpizzapub.com/event/caitlin-barry-live-3/
LOCATION:Wildcat Pizza Pub\, 3680 Milton Ave\, Camillus\, NY\, 13031\, United States
CATEGORIES:Events,Live Music
END:VEVENT
BEGIN:VEVENT
DTSTART;TZID=UTC:20170818T180000
DTEND;TZID=UTC:20170818T210000
DTSTAMP:20260424T122150
CREATED:20170527T230106Z
LAST-MODIFIED:20170622T003605Z
UID:963-1503079200-1503090000@www.wildcatpizzapub.com
SUMMARY:Tuff Luck Live at the Wildcat!
DESCRIPTION:Come listen to great music and enjoy great food!
URL:https://www.wildcatpizzapub.com/event/tuff-luck-live-at-the-wildcat/
LOCATION:Wildcat Pizza Pub\, 3680 Milton Ave\, Camillus\, NY\, 13031\, United States
CATEGORIES:Events,Live Music
END:VEVENT
BEGIN:VEVENT
DTSTART;TZID=UTC:20170812T200000
DTEND;TZID=UTC:20170812T230000
DTSTAMP:20260424T122150
CREATED:20170527T225552Z
LAST-MODIFIED:20170622T004117Z
UID:955-1502568000-1502578800@www.wildcatpizzapub.com
SUMMARY:The Coachmen! Live at The Wildcat
DESCRIPTION:Come enjoy Great music and great food!
URL:https://www.wildcatpizzapub.com/event/the-coachmen-live-at-the-wildcat/
LOCATION:Wildcat Pizza Pub\, 3680 Milton Ave\, Camillus\, NY\, 13031\, United States
CATEGORIES:Events,Live Music
END:VEVENT
BEGIN:VEVENT
DTSTART;TZID=UTC:20170805T200000
DTEND;TZID=UTC:20170805T220000
DTSTAMP:20260424T122150
CREATED:20170527T230023Z
LAST-MODIFIED:20170622T004501Z
UID:962-1501963200-1501970400@www.wildcatpizzapub.com
SUMMARY:Infinity Live at the Wildcat!
DESCRIPTION:Come listen to great and music and enjoy great food!
URL:https://www.wildcatpizzapub.com/event/infinity-live-at-the-wildcat/
LOCATION:Wildcat Pizza Pub\, 3680 Milton Ave\, Camillus\, NY\, 13031\, United States
CATEGORIES:Events,Live Music
END:VEVENT
BEGIN:VEVENT
DTSTART;TZID=UTC:20170804T180000
DTEND;TZID=UTC:20170804T210000
DTSTAMP:20260424T122150
CREATED:20170527T225915Z
LAST-MODIFIED:20170622T003502Z
UID:960-1501869600-1501880400@www.wildcatpizzapub.com
SUMMARY:Flipside Live at the Wildcat!
DESCRIPTION:Come listen to great music and enjoy great food!
URL:https://www.wildcatpizzapub.com/event/flipside-live-at-the-wildcat/
LOCATION:Wildcat Pizza Pub\, 3680 Milton Ave\, Camillus\, NY\, 13031\, United States
CATEGORIES:Events,Live Music
END:VEVENT
BEGIN:VEVENT
DTSTART;TZID=UTC:20170728T190000
DTEND;TZID=UTC:20170728T210000
DTSTAMP:20260424T122150
CREATED:20170527T225812Z
LAST-MODIFIED:20170622T004434Z
UID:958-1501268400-1501275600@www.wildcatpizzapub.com
SUMMARY:Kevin McNamara and Paul Davie at the Wildcat
DESCRIPTION:Come enjoy great music and great food at the Wildcat!
URL:https://www.wildcatpizzapub.com/event/kevin-mcnamara-and-paul-davie-at-the-wildcat/
LOCATION:NY
CATEGORIES:Events,Live Music
END:VEVENT
BEGIN:VEVENT
DTSTART;TZID=UTC:20170720T190000
DTEND;TZID=UTC:20170720T220000
DTSTAMP:20260424T122150
CREATED:20170622T003325Z
LAST-MODIFIED:20170622T003325Z
UID:977-1500577200-1500588000@www.wildcatpizzapub.com
SUMMARY:Caitlin Barry LIVE
DESCRIPTION:Come enjoy great food and great music!
URL:https://www.wildcatpizzapub.com/event/caitlin-barry-live-2/
LOCATION:Wildcat Pizza Pub\, 3680 Milton Ave\, Camillus\, NY\, 13031\, United States
CATEGORIES:Events,Live Music
END:VEVENT
BEGIN:VEVENT
DTSTART;TZID=UTC:20170709T170000
DTEND;TZID=UTC:20170709T190000
DTSTAMP:20260424T122150
CREATED:20170622T002541Z
LAST-MODIFIED:20170622T002541Z
UID:973-1499619600-1499626800@www.wildcatpizzapub.com
SUMMARY:Paint Night
DESCRIPTION:
URL:https://www.wildcatpizzapub.com/event/paint-night-2/
LOCATION:Wildcat Pizza Pub\, 3680 Milton Ave\, Camillus\, NY\, 13031\, United States
CATEGORIES:Events,Live Music
END:VEVENT
BEGIN:VEVENT
DTSTART;TZID=UTC:20170708T200000
DTEND;TZID=UTC:20170708T230000
DTSTAMP:20260424T122150
CREATED:20170527T225423Z
LAST-MODIFIED:20170622T002722Z
UID:953-1499544000-1499554800@www.wildcatpizzapub.com
SUMMARY:Steven Cali Live at the Wildcat!
DESCRIPTION:Come enjoy Great Country music and great food on July 8th!
URL:https://www.wildcatpizzapub.com/event/steven-cali-live-at-the-wildcat/
LOCATION:Wildcat Pizza Pub\, 3680 Milton Ave\, Camillus\, NY\, 13031\, United States
CATEGORIES:Events,Live Music
END:VEVENT
BEGIN:VEVENT
DTSTART;TZID=UTC:20170707T190000
DTEND;TZID=UTC:20170707T220000
DTSTAMP:20260424T122150
CREATED:20170527T225140Z
LAST-MODIFIED:20170622T001458Z
UID:951-1499454000-1499464800@www.wildcatpizzapub.com
SUMMARY:The Brown Brothers Live at the Wildcat!
DESCRIPTION:Come enjoy great music and great food at the Wildcat! The show’s 7:00 to 10:00pm !
URL:https://www.wildcatpizzapub.com/event/the-brown-brothers-live-at-the-wildcat/
LOCATION:Wildcat Pizza Pub\, 3680 Milton Ave\, Camillus\, NY\, 13031\, United States
CATEGORIES:Events,Live Music
END:VEVENT
BEGIN:VEVENT
DTSTART;TZID=UTC:20170629T190000
DTEND;TZID=UTC:20170629T220000
DTSTAMP:20260424T122150
CREATED:20170622T002309Z
LAST-MODIFIED:20170622T002309Z
UID:969-1498762800-1498773600@www.wildcatpizzapub.com
SUMMARY:Caitlin Barry LIVE
DESCRIPTION:Come enjoy great food and listen to some miraculous talent by Caitlin Barry!
URL:https://www.wildcatpizzapub.com/event/caitlin-barry-live/
LOCATION:Wildcat Pizza Pub\, 3680 Milton Ave\, Camillus\, NY\, 13031\, United States
CATEGORIES:Events,Live Music
END:VEVENT
BEGIN:VEVENT
DTSTART;TZID=UTC:20170609T200000
DTEND;TZID=UTC:20170609T230000
DTSTAMP:20260424T122150
CREATED:20170527T224858Z
LAST-MODIFIED:20170527T225240Z
UID:949-1497038400-1497049200@www.wildcatpizzapub.com
SUMMARY:The Action! Live at the Wildcat!
DESCRIPTION:Come enjoy great music by The Action\, and great food here at the Wildcat! From 8:00- 11:00pm!
URL:https://www.wildcatpizzapub.com/event/the-action-live-at-the-wildcat/
LOCATION:Wildcat Pizza Pub\, 3680 Milton Ave\, Camillus\, NY\, 13031\, United States
CATEGORIES:Events,Live Music
END:VEVENT
BEGIN:VEVENT
DTSTART;TZID=UTC:20170602T190000
DTEND;TZID=UTC:20170602T220000
DTSTAMP:20260424T122150
CREATED:20170527T224505Z
LAST-MODIFIED:20170527T224505Z
UID:947-1496430000-1496440800@www.wildcatpizzapub.com
SUMMARY:Frank and Burns Live at the Wildcat
DESCRIPTION:Come hangout with us this Saturday and listen to great music by Frank and Burns!
URL:https://www.wildcatpizzapub.com/event/frank-and-burns-live-at-the-wildcat/
LOCATION:Wildcat Pizza Pub\, 3680 Milton Ave\, Camillus\, NY\, 13031\, United States
CATEGORIES:Events,Live Music
END:VEVENT
BEGIN:VEVENT
DTSTART;VALUE=DATE:20170414
DTEND;VALUE=DATE:20170415
DTSTAMP:20260424T122150
CREATED:20170320T121931Z
LAST-MODIFIED:20170320T121931Z
UID:939-1492128000-1492214399@www.wildcatpizzapub.com
SUMMARY:The Action!
DESCRIPTION:
URL:https://www.wildcatpizzapub.com/event/the-action/
LOCATION:Wildcat Pizza Pub\, 3680 Milton Ave\, Camillus\, NY\, 13031\, United States
CATEGORIES:Events,Live Music
END:VEVENT
BEGIN:VEVENT
DTSTART;VALUE=DATE:20170407
DTEND;VALUE=DATE:20170408
DTSTAMP:20260424T122150
CREATED:20170320T121844Z
LAST-MODIFIED:20170320T121844Z
UID:937-1491523200-1491609599@www.wildcatpizzapub.com
SUMMARY:Quickchange feat. Gary Dunes
DESCRIPTION:
URL:https://www.wildcatpizzapub.com/event/quickchange-feat-gary-dunes/
LOCATION:Wildcat Pizza Pub\, 3680 Milton Ave\, Camillus\, NY\, 13031\, United States
CATEGORIES:Events,Live Music
END:VEVENT
BEGIN:VEVENT
DTSTART;TZID=UTC:20170320T193000
DTEND;TZID=UTC:20170320T210000
DTSTAMP:20260424T122150
CREATED:20170308T134648Z
LAST-MODIFIED:20170308T134648Z
UID:925-1490038200-1490043600@www.wildcatpizzapub.com
SUMMARY:First Ever Camillus Community Band Concert
DESCRIPTION:
URL:https://www.wildcatpizzapub.com/event/first-ever-camillus-community-band-concert/
LOCATION:West Genesee High School\, West Genesee High School\, Camillus\, United States
CATEGORIES:Events,Live Music
END:VEVENT
BEGIN:VEVENT
DTSTART;TZID=UTC:20170205T170000
DTEND;TZID=UTC:20170205T230000
DTSTAMP:20260424T122150
CREATED:20170130T180544Z
LAST-MODIFIED:20170130T185804Z
UID:834-1486314000-1486335600@www.wildcatpizzapub.com
SUMMARY:Wildcat Superbowl Party
DESCRIPTION:Fun\, prizes\, specials and two great football teams. Gary will be on hand with football trivia\, door prizes and good fun.
URL:https://www.wildcatpizzapub.com/event/wildcat-superbowl-party/
LOCATION:Wildcat Pizza Pub\, 3680 Milton Ave\, Camillus\, NY\, 13031\, United States
CATEGORIES:Events,Live Music
END:VEVENT
BEGIN:VEVENT
DTSTART;TZID=UTC:20170203T200000
DTEND;TZID=UTC:20170203T230000
DTSTAMP:20260424T122150
CREATED:20161223T203739Z
LAST-MODIFIED:20170130T190705Z
UID:809-1486152000-1486162800@www.wildcatpizzapub.com
SUMMARY:Tuff Luck at the Wildcat
DESCRIPTION:Come hang with the Tuff Luck horns at a new venue!! A perfect night for those mid winter blues.
URL:https://www.wildcatpizzapub.com/event/tuff-luck/
LOCATION:Wildcat Pizza Pub\, 3680 Milton Ave\, Camillus\, NY\, 13031\, United States
CATEGORIES:Events,Live Music
END:VEVENT
END:VCALENDAR