BEGIN:VCALENDAR
VERSION:2.0
PRODID:-// - ECPv6.15.20//NONSGML v1.0//EN
CALSCALE:GREGORIAN
METHOD:PUBLISH
X-ORIGINAL-URL:https://www.wildcatpizzapub.com
X-WR-CALDESC:Events for 
REFRESH-INTERVAL;VALUE=DURATION:PT1H
X-Robots-Tag:noindex
X-PUBLISHED-TTL:PT1H
BEGIN:VTIMEZONE
TZID:UTC
BEGIN:STANDARD
TZOFFSETFROM:+0000
TZOFFSETTO:+0000
TZNAME:UTC
DTSTART:20160101T000000
END:STANDARD
END:VTIMEZONE
BEGIN:VEVENT
DTSTART;TZID=UTC:20180713T200000
DTEND;TZID=UTC:20180713T230000
DTSTAMP:20260424T083815
CREATED:20180517T015304Z
LAST-MODIFIED:20180517T015304Z
UID:1103-1531512000-1531522800@www.wildcatpizzapub.com
SUMMARY:The Coachmen (LIVE Band)
DESCRIPTION:Come listen to The Coachmen while enjoying great music and incredible food!
URL:https://www.wildcatpizzapub.com/event/the-coachmen-live-band/
LOCATION:Wildcat Pizza Pub\, 3680 Milton Ave\, Camillus\, NY\, 13031\, United States
CATEGORIES:Events,Live Music
END:VEVENT
BEGIN:VEVENT
DTSTART;TZID=UTC:20180707T200000
DTEND;TZID=UTC:20180707T230000
DTSTAMP:20260424T083815
CREATED:20180517T015148Z
LAST-MODIFIED:20180517T015148Z
UID:1101-1530993600-1531004400@www.wildcatpizzapub.com
SUMMARY:Peyton Bird with Sean Fried (LIVE Band)
DESCRIPTION:Come listen to Peyton Bird and Sean Fried great music and incredible food!
URL:https://www.wildcatpizzapub.com/event/peyton-bird-with-sean-fried-live-band/
LOCATION:Wildcat Pizza Pub\, 3680 Milton Ave\, Camillus\, NY\, 13031\, United States
CATEGORIES:Events,Live Music
END:VEVENT
BEGIN:VEVENT
DTSTART;TZID=UTC:20180706T200000
DTEND;TZID=UTC:20180706T230000
DTSTAMP:20260424T083815
CREATED:20180517T014938Z
LAST-MODIFIED:20180517T014938Z
UID:1099-1530907200-1530918000@www.wildcatpizzapub.com
SUMMARY:Six String Rodeo (LIVE Band)
DESCRIPTION:Come listen to Six String Rodeo for good music and incredible food!
URL:https://www.wildcatpizzapub.com/event/six-string-rodeo-live-band/
LOCATION:Wildcat Pizza Pub\, 3680 Milton Ave\, Camillus\, NY\, 13031\, United States
CATEGORIES:Events,Live Music
END:VEVENT
BEGIN:VEVENT
DTSTART;TZID=UTC:20180615T200000
DTEND;TZID=UTC:20180615T230000
DTSTAMP:20260424T083815
CREATED:20180517T014821Z
LAST-MODIFIED:20180517T014821Z
UID:1097-1529092800-1529103600@www.wildcatpizzapub.com
SUMMARY:Mac and Cheesy (LIVE Band)
DESCRIPTION:Come listen to Mac and Cheesy while enjoying good music and incredible food!
URL:https://www.wildcatpizzapub.com/event/mac-and-cheesy-live-band/
LOCATION:Wildcat Pizza Pub\, 3680 Milton Ave\, Camillus\, NY\, 13031\, United States
CATEGORIES:Events,Live Music
END:VEVENT
BEGIN:VEVENT
DTSTART;TZID=UTC:20180608T200000
DTEND;TZID=UTC:20180608T230000
DTSTAMP:20260424T083815
CREATED:20180517T014706Z
LAST-MODIFIED:20180517T014706Z
UID:1095-1528488000-1528498800@www.wildcatpizzapub.com
SUMMARY:Tennyson Ave (LIVE Band)
DESCRIPTION:Come out and listen to Tennyson Ave at Wildcat to enjoy good music and great food!
URL:https://www.wildcatpizzapub.com/event/tennyson-ave-live-band/
LOCATION:Wildcat Pizza Pub\, 3680 Milton Ave\, Camillus\, NY\, 13031\, United States
CATEGORIES:Events,Live Music
END:VEVENT
BEGIN:VEVENT
DTSTART;TZID=UTC:20180601T200000
DTEND;TZID=UTC:20180601T230000
DTSTAMP:20260424T083815
CREATED:20180517T014517Z
LAST-MODIFIED:20180517T014517Z
UID:1093-1527883200-1527894000@www.wildcatpizzapub.com
SUMMARY:The Action! (LIVE Band)
DESCRIPTION:Come hear The Action’s great music while enjoying amazing food!
URL:https://www.wildcatpizzapub.com/event/the-action-live-band/
LOCATION:Wildcat Pizza Pub\, 3680 Milton Ave\, Camillus\, NY\, 13031\, United States
CATEGORIES:Events,Live Music
END:VEVENT
BEGIN:VEVENT
DTSTART;TZID=UTC:20180518T200000
DTEND;TZID=UTC:20180518T230000
DTSTAMP:20260424T083815
CREATED:20180517T014246Z
LAST-MODIFIED:20180517T014246Z
UID:1091-1526673600-1526684400@www.wildcatpizzapub.com
SUMMARY:Posted (LIVE BAND)
DESCRIPTION:Come listen to Posted and enjoy great food and great music!
URL:https://www.wildcatpizzapub.com/event/posted-live-band/
LOCATION:Wildcat Pizza Pub\, 3680 Milton Ave\, Camillus\, NY\, 13031\, United States
CATEGORIES:Events,Live Music
END:VEVENT
BEGIN:VEVENT
DTSTART;TZID=UTC:20180517T200000
DTEND;TZID=UTC:20180517T230000
DTSTAMP:20260424T083815
CREATED:20180517T015422Z
LAST-MODIFIED:20180517T015422Z
UID:1105-1526587200-1526598000@www.wildcatpizzapub.com
SUMMARY:Southern Heat (LIVE Band)
DESCRIPTION:Come listen to Southern Heat for great music and incredible food!
URL:https://www.wildcatpizzapub.com/event/southern-heat-live-band/
LOCATION:Wildcat Pizza Pub\, 3680 Milton Ave\, Camillus\, NY\, 13031\, United States
CATEGORIES:Events,Live Music
END:VEVENT
BEGIN:VEVENT
DTSTART;VALUE=DATE:20171230
DTEND;VALUE=DATE:20171231
DTSTAMP:20260424T083815
CREATED:20170906T213414Z
LAST-MODIFIED:20170906T213414Z
UID:1024-1514592000-1514678399@www.wildcatpizzapub.com
SUMMARY:Jake Dodds LIVE
DESCRIPTION:Come see Jake Dodds LIVE at the Wildcat from 8-11pm!
URL:https://www.wildcatpizzapub.com/event/jake-dodds-live/
LOCATION:Wildcat Pizza Pub\, 3680 Milton Ave\, Camillus\, NY\, 13031\, United States
CATEGORIES:Events,Live Music
END:VEVENT
BEGIN:VEVENT
DTSTART;TZID=UTC:20171124T200000
DTEND;TZID=UTC:20171124T230000
DTSTAMP:20260424T083815
CREATED:20170906T213259Z
LAST-MODIFIED:20170906T213259Z
UID:1023-1511553600-1511564400@www.wildcatpizzapub.com
SUMMARY:The Brown Brothers LIVE
DESCRIPTION:Come see the Brown Brothers Live from 8 to 11pm!
URL:https://www.wildcatpizzapub.com/event/the-brown-brothers-live/
LOCATION:Wildcat Pizza Pub\, 3680 Milton Ave\, Camillus\, NY\, 13031\, United States
END:VEVENT
BEGIN:VEVENT
DTSTART;TZID=UTC:20171122T200000
DTEND;TZID=UTC:20171122T230000
DTSTAMP:20260424T083815
CREATED:20170906T213156Z
LAST-MODIFIED:20170906T213216Z
UID:1022-1511380800-1511391600@www.wildcatpizzapub.com
SUMMARY:The Action! LIVE
DESCRIPTION:Come see The Action! Live at the wildcat from 8 to 11!
URL:https://www.wildcatpizzapub.com/event/the-action-live/
LOCATION:Wildcat Pizza Pub\, 3680 Milton Ave\, Camillus\, NY\, 13031\, United States
END:VEVENT
BEGIN:VEVENT
DTSTART;TZID=UTC:20171117T200000
DTEND;TZID=UTC:20171117T230000
DTSTAMP:20260424T083815
CREATED:20170906T213120Z
LAST-MODIFIED:20170906T213120Z
UID:1021-1510948800-1510959600@www.wildcatpizzapub.com
SUMMARY:Full Tilt Live
DESCRIPTION:Come see Full Tilt Live at the Wildcat from 8-11pm!
URL:https://www.wildcatpizzapub.com/event/full-tilt-live/
LOCATION:Wildcat Pizza Pub\, 3680 Milton Ave\, Camillus\, NY\, 13031\, United States
CATEGORIES:Events,Live Music
END:VEVENT
BEGIN:VEVENT
DTSTART;TZID=UTC:20171111T200000
DTEND;TZID=UTC:20171111T230000
DTSTAMP:20260424T083815
CREATED:20170906T213739Z
LAST-MODIFIED:20170906T213740Z
UID:1031-1510430400-1510441200@www.wildcatpizzapub.com
SUMMARY:Steven Cali Live
DESCRIPTION:Come see Steven Cali from 8 to 11pm!
URL:https://www.wildcatpizzapub.com/event/steven-cali-live-2/
LOCATION:Wildcat Pizza Pub\, 3680 Milton Ave\, Camillus\, NY\, 13031\, United States
CATEGORIES:Events,Live Music
END:VEVENT
BEGIN:VEVENT
DTSTART;TZID=UTC:20171110T200000
DTEND;TZID=UTC:20171110T230000
DTSTAMP:20260424T083815
CREATED:20170906T212444Z
LAST-MODIFIED:20170906T212901Z
UID:1016-1510344000-1510354800@www.wildcatpizzapub.com
SUMMARY:Tuff Luck LIVE
DESCRIPTION:Come listen to the band Tuff Luck Live at the Wildcat!
URL:https://www.wildcatpizzapub.com/event/tuff-luck-live/
LOCATION:Wildcat Pizza Pub\, 3680 Milton Ave\, Camillus\, NY\, 13031\, United States
CATEGORIES:Events,Live Music
END:VEVENT
BEGIN:VEVENT
DTSTART;TZID=UTC:20171104T190000
DTEND;TZID=UTC:20171104T220000
DTSTAMP:20260424T083815
CREATED:20170906T212238Z
LAST-MODIFIED:20170906T212338Z
UID:1014-1509822000-1509832800@www.wildcatpizzapub.com
SUMMARY:Brian Alexander
DESCRIPTION:Come listen to Brian Alexander Live from 7 to 10pm!
URL:https://www.wildcatpizzapub.com/event/brian-alexander/
LOCATION:Wildcat Pizza Pub\, 3680 Milton Ave\, Camillus\, NY\, 13031\, United States
CATEGORIES:Events,Live Music
END:VEVENT
BEGIN:VEVENT
DTSTART;TZID=UTC:20171103T200000
DTEND;TZID=UTC:20171103T230000
DTSTAMP:20260424T083815
CREATED:20170906T212118Z
LAST-MODIFIED:20170906T212118Z
UID:1015-1509739200-1509750000@www.wildcatpizzapub.com
SUMMARY:Timeline LIVE
DESCRIPTION:Timeline is performing from 8 to 11!
URL:https://www.wildcatpizzapub.com/event/timeline-live/
LOCATION:Wildcat Pizza Pub\, 3680 Milton Ave\, Camillus\, NY\, 13031\, United States
CATEGORIES:Events,Live Music
END:VEVENT
BEGIN:VEVENT
DTSTART;TZID=UTC:20171027T200000
DTEND;TZID=UTC:20171027T230000
DTSTAMP:20260424T083815
CREATED:20170906T211855Z
LAST-MODIFIED:20170906T211855Z
UID:1012-1509134400-1509145200@www.wildcatpizzapub.com
SUMMARY:Wildcat's Halloween Party/Costume Contest!
DESCRIPTION:Come to the Wildcat for our annual Halloween party celebration! Dangerous Type is performing from 8 to 11! Dress up and bring your friends to this awesome event!
URL:https://www.wildcatpizzapub.com/event/wildcats-halloween-partycostume-contest/
LOCATION:Wildcat Pizza Pub\, 3680 Milton Ave\, Camillus\, NY\, 13031\, United States
CATEGORIES:Events,Live Music
END:VEVENT
BEGIN:VEVENT
DTSTART;TZID=UTC:20171020T200000
DTEND;TZID=UTC:20171020T230000
DTSTAMP:20260424T083815
CREATED:20170906T211634Z
LAST-MODIFIED:20170906T212830Z
UID:1009-1508529600-1508540400@www.wildcatpizzapub.com
SUMMARY:Side Affect
DESCRIPTION:Come listen to Side Affect Live from 8 to 11!
URL:https://www.wildcatpizzapub.com/event/side-affect/
LOCATION:Wildcat Pizza Pub\, 3680 Milton Ave\, Camillus\, NY\, 13031\, United States
CATEGORIES:Live Music
END:VEVENT
BEGIN:VEVENT
DTSTART;VALUE=DATE:20171018
DTEND;VALUE=DATE:20171019
DTSTAMP:20260424T083815
CREATED:20170906T211541Z
LAST-MODIFIED:20170906T211541Z
UID:1007-1508284800-1508371199@www.wildcatpizzapub.com
SUMMARY:Paint Night
DESCRIPTION:
URL:https://www.wildcatpizzapub.com/event/paint-night-7/
LOCATION:Wildcat Pizza Pub\, 3680 Milton Ave\, Camillus\, NY\, 13031\, United States
CATEGORIES:Events
END:VEVENT
BEGIN:VEVENT
DTSTART;TZID=UTC:20171014T200000
DTEND;TZID=UTC:20171014T230000
DTSTAMP:20260424T083815
CREATED:20170906T211359Z
LAST-MODIFIED:20170906T212806Z
UID:1003-1508011200-1508022000@www.wildcatpizzapub.com
SUMMARY:Peyton Bird
DESCRIPTION:Come hear Peyton Bird Live at the Wildcat from 8 to 11!
URL:https://www.wildcatpizzapub.com/event/peyton-bird/
LOCATION:Wildcat Pizza Pub\, 3680 Milton Ave\, Camillus\, NY\, 13031\, United States
CATEGORIES:Live Music
END:VEVENT
BEGIN:VEVENT
DTSTART;VALUE=DATE:20171011
DTEND;VALUE=DATE:20171012
DTSTAMP:20260424T083815
CREATED:20170906T211455Z
LAST-MODIFIED:20170906T211455Z
UID:1005-1507680000-1507766399@www.wildcatpizzapub.com
SUMMARY:Paint Night
DESCRIPTION:
URL:https://www.wildcatpizzapub.com/event/paint-night-6/
LOCATION:Wildcat Pizza Pub\, 3680 Milton Ave\, Camillus\, NY\, 13031\, United States
CATEGORIES:Events
END:VEVENT
BEGIN:VEVENT
DTSTART;TZID=UTC:20171006T200000
DTEND;TZID=UTC:20171006T230000
DTSTAMP:20260424T083815
CREATED:20170906T211216Z
LAST-MODIFIED:20170906T211216Z
UID:1001-1507320000-1507330800@www.wildcatpizzapub.com
SUMMARY:Zero Point Zero
DESCRIPTION:Come hear Zero Point Zero from 8 to 11pm!
URL:https://www.wildcatpizzapub.com/event/zero-point-zero/
LOCATION:Wildcat Pizza Pub\, 3680 Milton Ave\, Camillus\, NY\, 13031\, United States
CATEGORIES:Live Music
END:VEVENT
BEGIN:VEVENT
DTSTART;TZID=UTC:20170929T200000
DTEND;TZID=UTC:20170929T230000
DTSTAMP:20260424T083815
CREATED:20170906T210926Z
LAST-MODIFIED:20170906T210926Z
UID:998-1506715200-1506726000@www.wildcatpizzapub.com
SUMMARY:Tennison Ave
DESCRIPTION:Come hear Tennison Ave from 8 to 11!
URL:https://www.wildcatpizzapub.com/event/tennison-ave/
LOCATION:Wildcat Pizza Pub\, 3680 Milton Ave\, Camillus\, NY\, 13031\, United States
CATEGORIES:Live Music
END:VEVENT
BEGIN:VEVENT
DTSTART;VALUE=DATE:20170927
DTEND;VALUE=DATE:20170928
DTSTAMP:20260424T083815
CREATED:20170906T210841Z
LAST-MODIFIED:20170906T210841Z
UID:997-1506470400-1506556799@www.wildcatpizzapub.com
SUMMARY:Paint Night
DESCRIPTION:
URL:https://www.wildcatpizzapub.com/event/paint-night-5/
LOCATION:Wildcat Pizza Pub\, 3680 Milton Ave\, Camillus\, NY\, 13031\, United States
CATEGORIES:Events
END:VEVENT
BEGIN:VEVENT
DTSTART;TZID=UTC:20170921T180000
DTEND;TZID=UTC:20170921T200000
DTSTAMP:20260424T083815
CREATED:20170906T210745Z
LAST-MODIFIED:20170906T213653Z
UID:995-1506016800-1506024000@www.wildcatpizzapub.com
SUMMARY:Steven Cali LIVE
DESCRIPTION:Come hear Steven Cali Live at the wildcat from 6 to 8!
URL:https://www.wildcatpizzapub.com/event/steven-cali-live/
LOCATION:Wildcat Pizza Pub\, 3680 Milton Ave\, Camillus\, NY\, 13031\, United States
CATEGORIES:Live Music
END:VEVENT
BEGIN:VEVENT
DTSTART;TZID=UTC:20170915T200000
DTEND;TZID=UTC:20170915T230000
DTSTAMP:20260424T083815
CREATED:20170906T210634Z
LAST-MODIFIED:20170906T210634Z
UID:990-1505505600-1505516400@www.wildcatpizzapub.com
SUMMARY:Red Spider
DESCRIPTION:Come checkout Red Spider at the Wildcat from 8 to 11!
URL:https://www.wildcatpizzapub.com/event/red-spider/
LOCATION:Wildcat Pizza Pub\, 3680 Milton Ave\, Camillus\, NY\, 13031\, United States
CATEGORIES:Live Music
END:VEVENT
BEGIN:VEVENT
DTSTART;VALUE=DATE:20170913
DTEND;VALUE=DATE:20170914
DTSTAMP:20260424T083815
CREATED:20170906T210438Z
LAST-MODIFIED:20170906T210438Z
UID:991-1505260800-1505347199@www.wildcatpizzapub.com
SUMMARY:Paint Night
DESCRIPTION:
URL:https://www.wildcatpizzapub.com/event/paint-night-4/
LOCATION:Wildcat Pizza Pub\, 3680 Milton Ave\, Camillus\, NY\, 13031\, United States
END:VEVENT
BEGIN:VEVENT
DTSTART;VALUE=DATE:20170910
DTEND;VALUE=DATE:20170911
DTSTAMP:20260424T083815
CREATED:20170906T210125Z
LAST-MODIFIED:20170906T210229Z
UID:989-1505001600-1505087999@www.wildcatpizzapub.com
SUMMARY:NFL FOOTBALL STARTS!
DESCRIPTION:
URL:https://www.wildcatpizzapub.com/event/nfl-football-starts/
LOCATION:Wildcat Pizza Pub\, 3680 Milton Ave\, Camillus\, NY\, 13031\, United States
CATEGORIES:Sports
END:VEVENT
BEGIN:VEVENT
DTSTART;TZID=UTC:20170909T200000
DTEND;TZID=UTC:20170909T230000
DTSTAMP:20260424T083815
CREATED:20170906T205950Z
LAST-MODIFIED:20170906T210354Z
UID:986-1504987200-1504998000@www.wildcatpizzapub.com
SUMMARY:DJ Gary Dunes
DESCRIPTION:
URL:https://www.wildcatpizzapub.com/event/dj-gary-dunes-2/
LOCATION:Wildcat Pizza Pub\, 3680 Milton Ave\, Camillus\, NY\, 13031\, United States
CATEGORIES:Events,Live Music
END:VEVENT
BEGIN:VEVENT
DTSTART;TZID=UTC:20170908T200000
DTEND;TZID=UTC:20170908T230000
DTSTAMP:20260424T083815
CREATED:20170906T205800Z
LAST-MODIFIED:20170906T210218Z
UID:985-1504900800-1504911600@www.wildcatpizzapub.com
SUMMARY:Joey Belladonna LIVE
DESCRIPTION:
URL:https://www.wildcatpizzapub.com/event/joey-belladonna-live/
LOCATION:Wildcat Pizza Pub\, 3680 Milton Ave\, Camillus\, NY\, 13031\, United States
CATEGORIES:Events
END:VEVENT
END:VCALENDAR