BEGIN:VCALENDAR
VERSION:2.0
PRODID:-// - ECPv6.15.20//NONSGML v1.0//EN
CALSCALE:GREGORIAN
METHOD:PUBLISH
X-ORIGINAL-URL:https://www.wildcatpizzapub.com
X-WR-CALDESC:Events for 
REFRESH-INTERVAL;VALUE=DURATION:PT1H
X-Robots-Tag:noindex
X-PUBLISHED-TTL:PT1H
BEGIN:VTIMEZONE
TZID:UTC
BEGIN:STANDARD
TZOFFSETFROM:+0000
TZOFFSETTO:+0000
TZNAME:UTC
DTSTART:20180101T000000
END:STANDARD
END:VTIMEZONE
BEGIN:VEVENT
DTSTART;TZID=UTC:20231110T200000
DTEND;TZID=UTC:20231110T220000
DTSTAMP:20260423T190239
CREATED:20230806T125734Z
LAST-MODIFIED:20230806T125734Z
UID:1711-1699646400-1699653600@www.wildcatpizzapub.com
SUMMARY:Mid Daze
DESCRIPTION:Syracuse’s 90’s Cover Band featuring\nJoe DeTomaso “Joe D” on Bass\nBobby Evans on Drums\nJoseph Petragnani “Joey Walker” on Lead Guitar and Background Vocals\nSam Vecchio – Rhythm Guitar & Lead Vocals
URL:https://www.wildcatpizzapub.com/event/mid-daze/
CATEGORIES:Events
END:VEVENT
BEGIN:VEVENT
DTSTART;TZID=UTC:20231013T200000
DTEND;TZID=UTC:20231013T220000
DTSTAMP:20260423T190239
CREATED:20230806T125507Z
LAST-MODIFIED:20230806T125507Z
UID:1707-1697227200-1697234400@www.wildcatpizzapub.com
SUMMARY:Tennyson Ave
DESCRIPTION:Tennyson AVe returns to the Wildcat for their fall show! Come enjoy a night of great music\, food and drink!
URL:https://www.wildcatpizzapub.com/event/tennyson-ave/
CATEGORIES:Events
END:VEVENT
BEGIN:VEVENT
DTSTART;TZID=UTC:20230929T200000
DTEND;TZID=UTC:20230929T220000
DTSTAMP:20260423T190239
CREATED:20230806T125343Z
LAST-MODIFIED:20230806T125343Z
UID:1705-1696017600-1696024800@www.wildcatpizzapub.com
SUMMARY:The Horn Dogs
DESCRIPTION:The Horns Dogs are a five-piece section consisting of an AltoSax\, Trumpet\, TenorSax\, Trombone and Bass. Come rock out!
URL:https://www.wildcatpizzapub.com/event/the-horn-dogs-3/
CATEGORIES:Events
END:VEVENT
BEGIN:VEVENT
DTSTART;TZID=UTC:20230915T200000
DTEND;TZID=UTC:20230915T220000
DTSTAMP:20260423T190239
CREATED:20230806T125225Z
LAST-MODIFIED:20230806T125225Z
UID:1703-1694808000-1694815200@www.wildcatpizzapub.com
SUMMARY:The Action!
DESCRIPTION:Join this innovative rock & roll band Friday night for great music and dancing!
URL:https://www.wildcatpizzapub.com/event/the-action-3/
CATEGORIES:Events
END:VEVENT
BEGIN:VEVENT
DTSTART;TZID=UTC:20230908T200000
DTEND;TZID=UTC:20230908T220000
DTSTAMP:20260423T190239
CREATED:20230806T125008Z
LAST-MODIFIED:20230821T151401Z
UID:1700-1694203200-1694210400@www.wildcatpizzapub.com
SUMMARY:The Baby Boomers Band
DESCRIPTION:Join this group of musicians dedicated to the fun music of the 1960’s and 1970’s!
URL:https://www.wildcatpizzapub.com/event/the-baby-boomers/
END:VEVENT
BEGIN:VEVENT
DTSTART;TZID=UTC:20230711T183000
DTEND;TZID=UTC:20230711T203000
DTSTAMP:20260423T190239
CREATED:20230629T213251Z
LAST-MODIFIED:20230629T213537Z
UID:1684-1689100200-1689107400@www.wildcatpizzapub.com
SUMMARY:Trivia
DESCRIPTION:Join us every Tuesday night for Trivia with Syracuse Trivia from 6:45pm-8:45pm. Come with a team\, eat some great food and have a drink! No better way to enjoy a Tuesday night!
URL:https://www.wildcatpizzapub.com/event/trivia/
LOCATION:Wildcat Pizza Pub\, 3680 Milton Ave\, Camillus\, NY\, 13031\, United States
END:VEVENT
BEGIN:VEVENT
DTSTART;TZID=UTC:20230303T200000
DTEND;TZID=UTC:20230303T220000
DTSTAMP:20260423T190239
CREATED:20230110T135858Z
LAST-MODIFIED:20230110T135954Z
UID:1657-1677873600-1677880800@www.wildcatpizzapub.com
SUMMARY:The Horn Dogs
DESCRIPTION:Rock out on Friday night!
URL:https://www.wildcatpizzapub.com/event/the-horn-dogs-2/
CATEGORIES:Events
END:VEVENT
BEGIN:VEVENT
DTSTART;TZID=UTC:20230210T200000
DTEND;TZID=UTC:20230210T220000
DTSTAMP:20260423T190239
CREATED:20230123T200239Z
LAST-MODIFIED:20230123T200239Z
UID:1667-1676059200-1676066400@www.wildcatpizzapub.com
SUMMARY:dangerous type
DESCRIPTION:
URL:https://www.wildcatpizzapub.com/event/dangerous-type-2/
END:VEVENT
BEGIN:VEVENT
DTSTART;TZID=UTC:20230203T200000
DTEND;TZID=UTC:20230203T220000
DTSTAMP:20260423T190239
CREATED:20230110T135741Z
LAST-MODIFIED:20230110T135741Z
UID:1655-1675454400-1675461600@www.wildcatpizzapub.com
SUMMARY:Sam Vecchio
DESCRIPTION:Join Sam Vecchio for a night of music!
URL:https://www.wildcatpizzapub.com/event/sam-vecchio/
END:VEVENT
BEGIN:VEVENT
DTSTART;TZID=UTC:20230127T200000
DTEND;TZID=UTC:20230127T220000
DTSTAMP:20260423T190239
CREATED:20230110T135457Z
LAST-MODIFIED:20230110T135457Z
UID:1653-1674849600-1674856800@www.wildcatpizzapub.com
SUMMARY:The Action!
DESCRIPTION:Come rock out with The Action!
URL:https://www.wildcatpizzapub.com/event/the-action-2/
CATEGORIES:Events
END:VEVENT
BEGIN:VEVENT
DTSTART;TZID=UTC:20230106T200000
DTEND;TZID=UTC:20230106T230000
DTSTAMP:20260423T190239
CREATED:20230105T163648Z
LAST-MODIFIED:20230105T163648Z
UID:1621-1673035200-1673046000@www.wildcatpizzapub.com
SUMMARY:Little Queen
DESCRIPTION:Rock out with Little Queen this Friday night at The Wildcat!
URL:https://www.wildcatpizzapub.com/event/little-queen/
END:VEVENT
BEGIN:VEVENT
DTSTART;TZID=UTC:20221218T100000
DTEND;TZID=UTC:20221218T130000
DTSTAMP:20260423T190239
CREATED:20221216T151307Z
LAST-MODIFIED:20221216T151307Z
UID:1601-1671357600-1671368400@www.wildcatpizzapub.com
SUMMARY:Pizza with Santa
DESCRIPTION:Let’s have a Merry Christmas with The Wildcat this year!!\n$5 per person gets you in with ALL proceeds going to a LOCAL family in need for Christmas time. Everything raised stays local! \nJoin us along with WAVES\, Fairmount Fire Department\, Camillus Police Department\, and the Onondaga County Sheriff’s SWAT team! \nArts and crafts for the kids\, Santa and his elves\, pizza\, soda\, and Christmas music! \nAdmission is at the door only\, with no presale. \nBring the family and celebrate this season while supporting Camillus!
URL:https://www.wildcatpizzapub.com/event/pizza-with-santa/
END:VEVENT
BEGIN:VEVENT
DTSTART;TZID=UTC:20221216T200000
DTEND;TZID=UTC:20221216T230000
DTSTAMP:20260423T190239
CREATED:20221216T152305Z
LAST-MODIFIED:20221216T152305Z
UID:1605-1671220800-1671231600@www.wildcatpizzapub.com
SUMMARY:The Horn Dogs
DESCRIPTION:Join The Horn Dogs Bill and Steve’s Birthday and their annual Christmas show! \nThis one is going to get crazy! \n 
URL:https://www.wildcatpizzapub.com/event/the-horn-dogs/
END:VEVENT
BEGIN:VEVENT
DTSTART;TZID=UTC:20200306T200000
DTEND;TZID=UTC:20200306T230000
DTSTAMP:20260423T190239
CREATED:20200126T023817Z
LAST-MODIFIED:20200126T023817Z
UID:1513-1583524800-1583535600@www.wildcatpizzapub.com
SUMMARY:Bad Alibi
DESCRIPTION:Come hear Bad Alibi while enjoying great music and tasty food!
URL:https://www.wildcatpizzapub.com/event/bad-alibi/
LOCATION:Wildcat Pizza Pub\, 3680 Milton Ave\, Camillus\, NY\, 13031\, United States
CATEGORIES:Events,Live Music
END:VEVENT
BEGIN:VEVENT
DTSTART;TZID=UTC:20200228T200000
DTEND;TZID=UTC:20200228T230000
DTSTAMP:20260423T190239
CREATED:20191214T013938Z
LAST-MODIFIED:20191214T013938Z
UID:1481-1582920000-1582930800@www.wildcatpizzapub.com
SUMMARY:Joe Nesci
DESCRIPTION:Come hear Joe Nesci while enjoying great music and tasty food!
URL:https://www.wildcatpizzapub.com/event/joe-nesci-2/
LOCATION:Wildcat Pizza Pub\, 3680 Milton Ave\, Camillus\, NY\, 13031\, United States
CATEGORIES:Events
END:VEVENT
BEGIN:VEVENT
DTSTART;TZID=UTC:20200221T200000
DTEND;TZID=UTC:20200221T230000
DTSTAMP:20260423T190239
CREATED:20191214T014648Z
LAST-MODIFIED:20200126T020112Z
UID:1488-1582315200-1582326000@www.wildcatpizzapub.com
SUMMARY:Patrick Young
DESCRIPTION:Come hear Patrick Young while enjoying great music and tasty food!
URL:https://www.wildcatpizzapub.com/event/patrick-young/
LOCATION:Wildcat Pizza Pub\, 3680 Milton Ave\, Camillus\, NY\, 13031\, United States
CATEGORIES:Events
END:VEVENT
BEGIN:VEVENT
DTSTART;TZID=UTC:20200214T200000
DTEND;TZID=UTC:20200214T230000
DTSTAMP:20260423T190239
CREATED:20191214T013838Z
LAST-MODIFIED:20191214T014308Z
UID:1479-1581710400-1581721200@www.wildcatpizzapub.com
SUMMARY:Infinity
DESCRIPTION:Come hear Infinity Live at Wildcat while enjoying great music and tasty food.
URL:https://www.wildcatpizzapub.com/event/infinity-2/
LOCATION:Wildcat Pizza Pub\, 3680 Milton Ave\, Camillus\, NY\, 13031\, United States
END:VEVENT
BEGIN:VEVENT
DTSTART;TZID=UTC:20200207T200000
DTEND;TZID=UTC:20200207T230000
DTSTAMP:20260423T190239
CREATED:20191214T013356Z
LAST-MODIFIED:20191214T014258Z
UID:1477-1581105600-1581116400@www.wildcatpizzapub.com
SUMMARY:The Shylocks
DESCRIPTION:Come hear The Shylocks Live at Wildcat while enjoying tasty food and great music!
URL:https://www.wildcatpizzapub.com/event/the-shylocks/
LOCATION:Wildcat Pizza Pub\, 3680 Milton Ave\, Camillus\, NY\, 13031\, United States
CATEGORIES:Events
END:VEVENT
BEGIN:VEVENT
DTSTART;TZID=UTC:20200131T200000
DTEND;TZID=UTC:20200131T230000
DTSTAMP:20260423T190239
CREATED:20191116T015905Z
LAST-MODIFIED:20191116T015905Z
UID:1471-1580500800-1580511600@www.wildcatpizzapub.com
SUMMARY:Nick Hickman
DESCRIPTION:Come hear Country star Nick Hickman right out of Nashville\, Tennessee \, While enjoying great music and tasty food!
URL:https://www.wildcatpizzapub.com/event/nick-hickman/
LOCATION:Wildcat Pizza Pub\, 3680 Milton Ave\, Camillus\, NY\, 13031\, United States
CATEGORIES:Events,Live Music
END:VEVENT
BEGIN:VEVENT
DTSTART;TZID=UTC:20200124T200000
DTEND;TZID=UTC:20200124T230000
DTSTAMP:20260423T190239
CREATED:20191103T003619Z
LAST-MODIFIED:20191103T003619Z
UID:1464-1579896000-1579906800@www.wildcatpizzapub.com
SUMMARY:F-5
DESCRIPTION:Come hear F-5 while enjoying great music and tasty food.
URL:https://www.wildcatpizzapub.com/event/f-5/
LOCATION:Wildcat Pizza Pub\, 3680 Milton Ave\, Camillus\, NY\, 13031\, United States
CATEGORIES:Events
END:VEVENT
BEGIN:VEVENT
DTSTART;TZID=UTC:20200117T200000
DTEND;TZID=UTC:20200117T230000
DTSTAMP:20260423T190239
CREATED:20191103T003219Z
LAST-MODIFIED:20191103T003219Z
UID:1460-1579291200-1579302000@www.wildcatpizzapub.com
SUMMARY:The Horndogs
DESCRIPTION:Come hear The Horndogs live at the Wildcat while enjoying great music and tasty food.
URL:https://www.wildcatpizzapub.com/event/the-horndogs/
LOCATION:Wildcat Pizza Pub\, 3680 Milton Ave\, Camillus\, NY\, 13031\, United States
CATEGORIES:Events
END:VEVENT
BEGIN:VEVENT
DTSTART;TZID=UTC:20200103T200000
DTEND;TZID=UTC:20200103T230000
DTSTAMP:20260423T190239
CREATED:20191103T002925Z
LAST-MODIFIED:20191103T002925Z
UID:1456-1578081600-1578092400@www.wildcatpizzapub.com
SUMMARY:Amped Live at Wildcat
DESCRIPTION:Come hear Amped live at the Wildcat while enjoying great music and great food.
URL:https://www.wildcatpizzapub.com/event/amped-live-at-wildcat/
LOCATION:Wildcat Pizza Pub\, 3680 Milton Ave\, Camillus\, NY\, 13031\, United States
CATEGORIES:Events
END:VEVENT
BEGIN:VEVENT
DTSTART;TZID=UTC:20191227T200000
DTEND;TZID=UTC:20191227T230000
DTSTAMP:20260423T190239
CREATED:20190714T003756Z
LAST-MODIFIED:20190714T003756Z
UID:1354-1577476800-1577487600@www.wildcatpizzapub.com
SUMMARY:Joey Belladonna
DESCRIPTION:Come hear Joey Belladonna while enjoying great music and tasty food!
URL:https://www.wildcatpizzapub.com/event/joey-belladonna/
LOCATION:Wildcat Pizza Pub\, 3680 Milton Ave\, Camillus\, NY\, 13031\, United States
END:VEVENT
BEGIN:VEVENT
DTSTART;TZID=UTC:20191221T200000
DTEND;TZID=UTC:20191221T230000
DTSTAMP:20260423T190239
CREATED:20180810T162030Z
LAST-MODIFIED:20190507T223545Z
UID:1152-1576958400-1576969200@www.wildcatpizzapub.com
SUMMARY:Origins Live at Wildcat
DESCRIPTION:Come hear Origins while enjoying great music and great food!
URL:https://www.wildcatpizzapub.com/event/origins-live-at-wildcat/
LOCATION:Wildcat Pizza Pub\, 3680 Milton Ave\, Camillus\, NY\, 13031\, United States
CATEGORIES:Live Music
END:VEVENT
BEGIN:VEVENT
DTSTART;TZID=UTC:20191220T080000
DTEND;TZID=UTC:20191220T170000
DTSTAMP:20260423T190239
CREATED:20190714T003642Z
LAST-MODIFIED:20190714T003642Z
UID:1353-1576828800-1576861200@www.wildcatpizzapub.com
SUMMARY:Chasing Neon
DESCRIPTION:Come hear Chasing Neon while enjoying great music and tasty food!
URL:https://www.wildcatpizzapub.com/event/chasing-neon-2/
LOCATION:Wildcat Pizza Pub\, 3680 Milton Ave\, Camillus\, NY\, 13031\, United States
END:VEVENT
BEGIN:VEVENT
DTSTART;TZID=UTC:20191213T200000
DTEND;TZID=UTC:20191213T230000
DTSTAMP:20260423T190239
CREATED:20190714T004238Z
LAST-MODIFIED:20190714T004238Z
UID:1355-1576267200-1576278000@www.wildcatpizzapub.com
SUMMARY:Seattle Sons
DESCRIPTION:Come hear Seattle Sons while enjoying great music and tasty food!
URL:https://www.wildcatpizzapub.com/event/seattle-sons/
LOCATION:Wildcat Pizza Pub\, 3680 Milton Ave\, Camillus\, NY\, 13031\, United States
END:VEVENT
BEGIN:VEVENT
DTSTART;TZID=UTC:20191206T200000
DTEND;TZID=UTC:20191206T230000
DTSTAMP:20260423T190239
CREATED:20190714T003537Z
LAST-MODIFIED:20190714T003537Z
UID:1352-1575662400-1575673200@www.wildcatpizzapub.com
SUMMARY:Sydney Irving
DESCRIPTION:Come hear Sydney Irving while enjoying great music and tasty food!
URL:https://www.wildcatpizzapub.com/event/sydney-irving/
LOCATION:Wildcat Pizza Pub\, 3680 Milton Ave\, Camillus\, NY\, 13031\, United States
END:VEVENT
BEGIN:VEVENT
DTSTART;TZID=UTC:20191129T200000
DTEND;TZID=UTC:20191129T230000
DTSTAMP:20260423T190239
CREATED:20190714T002912Z
LAST-MODIFIED:20190714T002912Z
UID:1345-1575057600-1575068400@www.wildcatpizzapub.com
SUMMARY:Frank and Ali
DESCRIPTION:Come hear Frank and Ali Live at the Wildcat while enjoying great music and tasty food!
URL:https://www.wildcatpizzapub.com/event/frank-and-ali/
LOCATION:Wildcat Pizza Pub\, 3680 Milton Ave\, Camillus\, NY\, 13031\, United States
END:VEVENT
BEGIN:VEVENT
DTSTART;TZID=UTC:20191122T200000
DTEND;TZID=UTC:20191122T230000
DTSTAMP:20260423T190239
CREATED:20190714T003311Z
LAST-MODIFIED:20190714T003311Z
UID:1350-1574452800-1574463600@www.wildcatpizzapub.com
SUMMARY:The Barndogs
DESCRIPTION:Come hear The Barndogs while enjoying great music and tasty food!
URL:https://www.wildcatpizzapub.com/event/the-barndogs/
LOCATION:Wildcat Pizza Pub\, 3680 Milton Ave\, Camillus\, NY\, 13031\, United States
END:VEVENT
BEGIN:VEVENT
DTSTART;TZID=UTC:20191109T200000
DTEND;TZID=UTC:20191109T230000
DTSTAMP:20260423T190239
CREATED:20191103T001652Z
LAST-MODIFIED:20191103T001652Z
UID:1453-1573329600-1573340400@www.wildcatpizzapub.com
SUMMARY:Pryor Baird Live at Wildcat
DESCRIPTION:Come hear Pryor Baird from TV show The Voice live at the Wildcat Pizza Pub.
URL:https://www.wildcatpizzapub.com/event/pryor-baird-live-at-wildcat/
LOCATION:Wildcat Pizza Pub\, 3680 Milton Ave\, Camillus\, NY\, 13031\, United States
CATEGORIES:Events
END:VEVENT
END:VCALENDAR